BEGIN:VCALENDAR
VERSION:2.0
PRODID:-// - ECPv6.15.20//NONSGML v1.0//EN
CALSCALE:GREGORIAN
METHOD:PUBLISH
X-ORIGINAL-URL:https://hcmlouisville.org
X-WR-CALDESC:Events for 
REFRESH-INTERVAL;VALUE=DURATION:PT1H
X-Robots-Tag:noindex
X-PUBLISHED-TTL:PT1H
BEGIN:VTIMEZONE
TZID:America/New_York
BEGIN:DAYLIGHT
TZOFFSETFROM:-0500
TZOFFSETTO:-0400
TZNAME:EDT
DTSTART:20250309T070000
END:DAYLIGHT
BEGIN:STANDARD
TZOFFSETFROM:-0400
TZOFFSETTO:-0500
TZNAME:EST
DTSTART:20251102T060000
END:STANDARD
BEGIN:DAYLIGHT
TZOFFSETFROM:-0500
TZOFFSETTO:-0400
TZNAME:EDT
DTSTART:20260308T070000
END:DAYLIGHT
BEGIN:STANDARD
TZOFFSETFROM:-0400
TZOFFSETTO:-0500
TZNAME:EST
DTSTART:20261101T060000
END:STANDARD
BEGIN:DAYLIGHT
TZOFFSETFROM:-0500
TZOFFSETTO:-0400
TZNAME:EDT
DTSTART:20270314T070000
END:DAYLIGHT
BEGIN:STANDARD
TZOFFSETFROM:-0400
TZOFFSETTO:-0500
TZNAME:EST
DTSTART:20271107T060000
END:STANDARD
END:VTIMEZONE
BEGIN:VEVENT
DTSTART;TZID=America/New_York:20260326T120000
DTEND;TZID=America/New_York:20260326T130000
DTSTAMP:20260425T084819
CREATED:20260303T144719Z
LAST-MODIFIED:20260303T144719Z
UID:1948-1774526400-1774530000@hcmlouisville.org
SUMMARY:Lenten Lunch
DESCRIPTION:Speaker: Rachel Small-Stokes \nEach Thursday at noon during Lent\, Highlands Community Ministries hosts a simple and meaningful gathering around the table. \nParticipants share a provided lunch and hear a brief word of reflection from a local pastor. These weekly gatherings offer space to pause\, connect\, and ground ourselves in community during the Lenten season. \nLunch is free and open to all. No registration required. \nWe hope you will join us.
URL:https://hcmlouisville.org/event/lenten-lunch-4/
LOCATION:Highlands Community Campus\, 1228 E. Breckinridge St.\, Louisville\, KY\, 40204
END:VEVENT
END:VCALENDAR