BEGIN:VCALENDAR
VERSION:2.0
PRODID:-// - ECPv6.15.20//NONSGML v1.0//EN
CALSCALE:GREGORIAN
METHOD:PUBLISH
X-ORIGINAL-URL:https://hcmlouisville.org
X-WR-CALDESC:Events for 
REFRESH-INTERVAL;VALUE=DURATION:PT1H
X-Robots-Tag:noindex
X-PUBLISHED-TTL:PT1H
BEGIN:VTIMEZONE
TZID:America/New_York
BEGIN:DAYLIGHT
TZOFFSETFROM:-0500
TZOFFSETTO:-0400
TZNAME:EDT
DTSTART:20200308T070000
END:DAYLIGHT
BEGIN:STANDARD
TZOFFSETFROM:-0400
TZOFFSETTO:-0500
TZNAME:EST
DTSTART:20201101T060000
END:STANDARD
BEGIN:DAYLIGHT
TZOFFSETFROM:-0500
TZOFFSETTO:-0400
TZNAME:EDT
DTSTART:20210314T070000
END:DAYLIGHT
BEGIN:STANDARD
TZOFFSETFROM:-0400
TZOFFSETTO:-0500
TZNAME:EST
DTSTART:20211107T060000
END:STANDARD
BEGIN:DAYLIGHT
TZOFFSETFROM:-0500
TZOFFSETTO:-0400
TZNAME:EDT
DTSTART:20220313T070000
END:DAYLIGHT
BEGIN:STANDARD
TZOFFSETFROM:-0400
TZOFFSETTO:-0500
TZNAME:EST
DTSTART:20221106T060000
END:STANDARD
END:VTIMEZONE
BEGIN:VEVENT
DTSTART;TZID=America/New_York:20211122T080000
DTEND;TZID=America/New_York:20211231T170000
DTSTAMP:20260425T062151
CREATED:20211122T180703Z
LAST-MODIFIED:20211122T181720Z
UID:1250-1637568000-1640970000@hcmlouisville.org
SUMMARY:Registration for HYR Winter Basketball and Futsal
DESCRIPTION:Registration is now open!  Late registrations beginning 12/23/21 will have an additional fee. \nClick here for the HYR Website for more info and to register. \nThe league will be open to players age 5 through 16\nThe season will run January 3 through February 26\, 2022\nHYR will be looking for volunteer coaches\nVolunteer coaches will receive a registration discount\nEach team will have 1 practice and 1 game per week for 8 weeks\nPractices and games will be at Highland Middle School or Douglass Boulevard Christian Church\nI am evaluating the gym rental fees and will know the price by Monday\, November 22nd\nRegistration will go live on Monday\, November 22nd\nHYR will announce a gym night at Highland Middle School in December (Date TBD)\nLate Registration (with a late fee) will begin December 23rd\nSchool Flyers will be distributed the week after Thanksgiving\nHYR will looking for T-shirt sponsors\nHYR will be looking to place yard signs to advertise\nHYR will be looking for volunteers to assist with league functions\nMasking guidelines will be in accordance with the host facility’s policies and similar to JCPS and other leagues\nHYR will continually evaluate guidelines throughout the season for indoor sports\nHYR Director\, Patrick Fitzgerald\nhyr@hcmlouisville.org\n502/671-9701 \nHYR is a program of HCM.
URL:https://hcmlouisville.org/event/registration-for-hyr-winter-basketball-and-futsal/
END:VEVENT
BEGIN:VEVENT
DTSTART;VALUE=DATE:20210630
DTEND;VALUE=DATE:20211101
DTSTAMP:20260425T062151
CREATED:20210428T013601Z
LAST-MODIFIED:20210507T031044Z
UID:948-1625079600-1635706799@hcmlouisville.org
SUMMARY:Thanksgiving Basket Sign-Ups
DESCRIPTION:Low-income families and individuals who would like to participate in this program or those with gift cards or financial help to donate should contact our office\, (502) 451-3695 ext. 213
URL:https://hcmlouisville.org/event/thanksgiving-basket-sign-ups/
END:VEVENT
BEGIN:VEVENT
DTSTART;VALUE=DATE:20210630
DTEND;VALUE=DATE:20211115
DTSTAMP:20260425T062151
CREATED:20210428T013528Z
LAST-MODIFIED:20210507T031104Z
UID:946-1625079600-1636916399@hcmlouisville.org
SUMMARY:Christmas Gift Sign-Ups
DESCRIPTION:Low-income families and individuals who would like to participate in this program or those with gift cards or financial help to donate should contact our office\, (502) 451-3695 ext. 213.
URL:https://hcmlouisville.org/event/christmas-gift-sign-ups/
END:VEVENT
BEGIN:VEVENT
DTSTART;VALUE=DATE:20210630
DTEND;VALUE=DATE:20210901
DTSTAMP:20260425T062151
CREATED:20210428T013447Z
LAST-MODIFIED:20210428T013447Z
UID:944-1625079600-1630436399@hcmlouisville.org
SUMMARY:Back to School Drive & Sign-Ups
DESCRIPTION:Sign-ups begin for students in need and donation collections. Contact our office for more information\, (502) 451-3695 ext. 213.
URL:https://hcmlouisville.org/event/back-to-school-drive-sign-ups/
END:VEVENT
BEGIN:VEVENT
DTSTART;TZID=America/New_York:20210627T090000
DTEND;TZID=America/New_York:20210627T110000
DTSTAMP:20260425T062151
CREATED:20210519T233154Z
LAST-MODIFIED:20210521T000712Z
UID:1072-1624784400-1624791600@hcmlouisville.org
SUMMARY:Summer Sampler Tour 3 of 3
DESCRIPTION:This summer\, HCM and the Louisville Historical League invite you to tour 10 beautiful church buildings in the Highlands. People will have the opportunity to learn about the architecture and history of these congregations that support HCM. Churches will be open from 2-4 pm each of the three Sunday afternoons. On June 27th\, open churches will be: \n\nSt Francis of Assisi Catholic Church\nSt. Andrew’s Episcopal Church\nStrathmoor Presbyterian Church\n\n~Masks and social distancing to be observed~\nThere is no fee but donations may be made to Highlands Community Ministries \nClick map image to see the 3 church locations together:
URL:https://hcmlouisville.org/event/summer-sampler-june27/
END:VEVENT
BEGIN:VEVENT
DTSTART;TZID=America/New_York:20210620T090000
DTEND;TZID=America/New_York:20210620T110000
DTSTAMP:20260425T062151
CREATED:20210519T233034Z
LAST-MODIFIED:20210521T000428Z
UID:1070-1624179600-1624186800@hcmlouisville.org
SUMMARY:Summer Sampler Tour 2 of 3
DESCRIPTION:This summer\, HCM and the Louisville Historical League invite you to tour 10 beautiful church buildings in the Highlands. People will have the opportunity to learn about the architecture and history of these congregations that support HCM. Churches will be open from 2-4 pm each of the three Sunday afternoons. On June 20th\, open churches will be: \n\nBardstown Road Presbyterian\nDeer Park Baptist\nImmanuel UCC\n\n~Masks and social distancing to be observed~ \n\n\n\n\n\n\n\nThere is no fee but donations may be made to Highlands Community Ministries \nClick Map Image to see 3 locations together: \n \n 
URL:https://hcmlouisville.org/event/summer-sampler-june20/
END:VEVENT
BEGIN:VEVENT
DTSTART;TZID=America/New_York:20210613T090000
DTEND;TZID=America/New_York:20210613T110000
DTSTAMP:20260425T062151
CREATED:20210417T021635Z
LAST-MODIFIED:20210521T201754Z
UID:849-1623574800-1623582000@hcmlouisville.org
SUMMARY:Summer Sampler Tour 1 of 3
DESCRIPTION:This summer\, HCM and the Louisville Historical League invite you to tour 10 beautiful church buildings in the Highlands. People will have the opportunity to learn about the architecture and history of these congregations that support HCM. Churches will be open from 2-4 pm each of the three Sunday afternoons. On June 13th\, open churches will be: \n\nChurch of the Advent Episcopal\nSaint Brigid Catholic Church\nHighland Baptist Church\nHighland Presbyterian Church\n\n~Masks and social distancing to be observed~ \nThere is no fee but donations may be made to Highlands Community Ministries \nClick Map Image to see all locations together:
URL:https://hcmlouisville.org/event/summer-sampler-june13/
END:VEVENT
END:VCALENDAR