BEGIN:VCALENDAR
VERSION:2.0
PRODID:-// - ECPv6.15.20//NONSGML v1.0//EN
CALSCALE:GREGORIAN
METHOD:PUBLISH
X-ORIGINAL-URL:https://hcmlouisville.org
X-WR-CALDESC:Events for 
REFRESH-INTERVAL;VALUE=DURATION:PT1H
X-Robots-Tag:noindex
X-PUBLISHED-TTL:PT1H
BEGIN:VTIMEZONE
TZID:America/New_York
BEGIN:DAYLIGHT
TZOFFSETFROM:-0500
TZOFFSETTO:-0400
TZNAME:EDT
DTSTART:20240310T070000
END:DAYLIGHT
BEGIN:STANDARD
TZOFFSETFROM:-0400
TZOFFSETTO:-0500
TZNAME:EST
DTSTART:20241103T060000
END:STANDARD
BEGIN:DAYLIGHT
TZOFFSETFROM:-0500
TZOFFSETTO:-0400
TZNAME:EDT
DTSTART:20250309T070000
END:DAYLIGHT
BEGIN:STANDARD
TZOFFSETFROM:-0400
TZOFFSETTO:-0500
TZNAME:EST
DTSTART:20251102T060000
END:STANDARD
BEGIN:DAYLIGHT
TZOFFSETFROM:-0500
TZOFFSETTO:-0400
TZNAME:EDT
DTSTART:20260308T070000
END:DAYLIGHT
BEGIN:STANDARD
TZOFFSETFROM:-0400
TZOFFSETTO:-0500
TZNAME:EST
DTSTART:20261101T060000
END:STANDARD
END:VTIMEZONE
BEGIN:VEVENT
DTSTART;TZID=America/New_York:20250313T120000
DTEND;TZID=America/New_York:20250410T130000
DTSTAMP:20260424T181823
CREATED:20220302T185144Z
LAST-MODIFIED:20250303T192520Z
UID:1273-1741867200-1744290000@hcmlouisville.org
SUMMARY:Lenten Lunch Series
DESCRIPTION:Join HCM during Lent for a simple lunch of soup and bread and a short devotional by speakers from Highlands Congregations on the theme of “Strength for today\, hope for tomorrow”. Thursdays during Lent\, March 13 – April 10\, noon to 1 pm\, at the following Highlands Congregations. Free event! \n\n\nMarch 13:  Deer Park Baptist\n\n\nMarch 20 – Immanuel UCC\n\n\nMarch 27 – Unity of Louisville (at HCM)\n\n\nApril 3 – Strathmoor Presbyterian\n\n\nApril 10: Bardstown Rd. Presbyterian
URL:https://hcmlouisville.org/event/lenten-lunch-series/
LOCATION:Kentucky
END:VEVENT
END:VCALENDAR